BEGIN:VCALENDAR
VERSION:2.0
PRODID:-//WebSYS//Calendario de Eventos//ES
CALSCALE:GREGORIAN
METHOD:PUBLISH
X-WR-CALNAME:Eventos WebSYS
X-WR-TIMEZONE:America/Mexico_City
X-WR-CALDESC:Calendario de eventos y cursos de WebSYS
BEGIN:VTIMEZONE
TZID:America/Mexico_City
X-LIC-LOCATION:America/Mexico_City
BEGIN:STANDARD
TZOFFSETFROM:-0500
TZOFFSETTO:-0600
TZNAME:CST
DTSTART:19701025T020000
RRULE:FREQ=YEARLY;BYMONTH=10;BYDAY=-1SU
END:STANDARD
BEGIN:DAYLIGHT
TZOFFSETFROM:-0600
TZOFFSETTO:-0500
TZNAME:CDT
DTSTART:19700405T020000
RRULE:FREQ=YEARLY;BYMONTH=4;BYDAY=1SU
END:DAYLIGHT
END:VTIMEZONE
BEGIN:VEVENT
UID:evento-193612@websys.com.mx
DTSTAMP:20260424T154958Z
DTSTART;TZID=America/Mexico_City:20260424T090000
DTEND;TZID=America/Mexico_City:20260424T090000
SUMMARY:Taller de soldadura Exot&eacute\\;rmica &quot\\;TechFussion&quot\\;
DESCRIPTION:El proceso de soldadura exot&eacute\\;rmica en la instalaci&oacute\\;n de sistemas de puesta atierra\\nHorario: 10:00 a 13:00\\n\\nObjetivo: Garantizar que todos aquellos responsables de realizar la uni&oacute\\;n de cables por medio del proceso de  Soldadura Exot&eacute\\;rmica  est&eacute\\;n debidamente preparados y capacitados para llevar a cabo con &eacute\\;xito cada proyecto.\\nDirigido a: Distribuidores interesados de realizar una completa y eficiente instalaci&oacute\\;n de Sistema de Tierra F&iacute\\;sica utilizando el proceso de soldadura exot&eacute\\;rmica para maximizar la eficiencia y la protecci&oacute\\;n del equipo en caso de una variaci&oacute\\;n de energ&iacute\\;a.Por ejemplo:-Instaladores de Equipo de Radiocomunicaci&oacute\\;n.-Integradores de Sistemas Profesionales de CCTV.-Torreros\\, Ing. Civiles\\, Arquitectos enfocados en la planeaci&oacute\\;n de Edificaciones.-T&eacute\\;cnicos El&eacute\\;ctricos y Electr&oacute\\;nicos encargados de realizar estudios e instalaciones de Tierras F&iacute\\;sicas.-Organismos dedicados a certificar o realizar mediciones de resistencia de suelo.\\nInstructor: Jose Alfonso Martinez Hernandez\\n\\nMás información: https://betaweb.syscom.mx/eventos/info/programa/193612
LOCATION:Ciudad de M&eacute\\;xico\\, Sucursal Sur\\, CDMX\\, México
URL:https://betaweb.syscom.mx/eventos/info/programa/193612
ORGANIZER;CN=Jose Alfonso Martinez Hernandez:mailto:info@websys.com.mx
CATEGORIES:Tierras F&iacute\\;sicas y Pararrayos
STATUS:CONFIRMED
TRANSP:OPAQUE
SEQUENCE:0
END:VEVENT
END:VCALENDAR
